BEGIN:VCALENDAR
VERSION:2.0
PRODID: https://giorni-festivi.eu/
METHOD:PUBLISH
CALSCALE:GREGORIAN
NAME:Giorni festivi Liechtenstein 2026
X-WR-CALNAME:Giorni festivi Liechtenstein 2026
DESCRIPTION:A service of giorni-festivi.eu. All data without guarantee! / Alle Angaben ohne Gewähr!
X-WR-CALDESC:A service of giorni-festivi.eu. All data without guarantee! / Alle Angaben ohne Gewähr!
BEGIN:VEVENT
UID:liechtenstein--2026-1@giorni-festivi.eu
DTSTAMP:20260101T000000
DTSTART;VALUE=DATE:20260101
SUMMARY:Neujahr / Capodanno 
DESCRIPTION:giorno festivo nazionale in Liechtenstein | giorni-festivi.eu. All data without guarantee! / Alle Angaben ohne Gewähr!
STATUS:CONFIRMED
END:VEVENT
BEGIN:VEVENT
UID:liechtenstein--2026-2@giorni-festivi.eu
DTSTAMP:20260106T000000
DTSTART;VALUE=DATE:20260106
SUMMARY:Heilige Drei Könige 
DESCRIPTION:giorno festivo nazionale in Liechtenstein | giorni-festivi.eu. All data without guarantee! / Alle Angaben ohne Gewähr!
STATUS:CONFIRMED
END:VEVENT
BEGIN:VEVENT
UID:liechtenstein--2026-5@giorni-festivi.eu
DTSTAMP:20260405T000000
DTSTART;VALUE=DATE:20260405
SUMMARY:Ostersonntag 
DESCRIPTION:giorno festivo nazionale in Liechtenstein | giorni-festivi.eu. All data without guarantee! / Alle Angaben ohne Gewähr!
STATUS:CONFIRMED
END:VEVENT
BEGIN:VEVENT
UID:liechtenstein--2026-6@giorni-festivi.eu
DTSTAMP:20260406T000000
DTSTART;VALUE=DATE:20260406
SUMMARY:Ostermontag 
DESCRIPTION:giorno festivo nazionale in Liechtenstein | giorni-festivi.eu. All data without guarantee! / Alle Angaben ohne Gewähr!
STATUS:CONFIRMED
END:VEVENT
BEGIN:VEVENT
UID:liechtenstein--2026-7@giorni-festivi.eu
DTSTAMP:20260501T000000
DTSTART;VALUE=DATE:20260501
SUMMARY:Tag der Arbeit 
DESCRIPTION:giorno festivo nazionale in Liechtenstein | giorni-festivi.eu. All data without guarantee! / Alle Angaben ohne Gewähr!
STATUS:CONFIRMED
END:VEVENT
BEGIN:VEVENT
UID:liechtenstein--2026-8@giorni-festivi.eu
DTSTAMP:20260514T000000
DTSTART;VALUE=DATE:20260514
SUMMARY:Auffahrt 
DESCRIPTION:giorno festivo nazionale in Liechtenstein | giorni-festivi.eu. All data without guarantee! / Alle Angaben ohne Gewähr!
STATUS:CONFIRMED
END:VEVENT
BEGIN:VEVENT
UID:liechtenstein--2026-9@giorni-festivi.eu
DTSTAMP:20260524T000000
DTSTART;VALUE=DATE:20260524
SUMMARY:Pfingstsonntag 
DESCRIPTION:giorno festivo nazionale in Liechtenstein | giorni-festivi.eu. All data without guarantee! / Alle Angaben ohne Gewähr!
STATUS:CONFIRMED
END:VEVENT
BEGIN:VEVENT
UID:liechtenstein--2026-10@giorni-festivi.eu
DTSTAMP:20260525T000000
DTSTART;VALUE=DATE:20260525
SUMMARY:Pfingstmontag 
DESCRIPTION:giorno festivo nazionale in Liechtenstein | giorni-festivi.eu. All data without guarantee! / Alle Angaben ohne Gewähr!
STATUS:CONFIRMED
END:VEVENT
BEGIN:VEVENT
UID:liechtenstein--2026-11@giorni-festivi.eu
DTSTAMP:20260604T000000
DTSTART;VALUE=DATE:20260604
SUMMARY:Fronleichnam 
DESCRIPTION:giorno festivo nazionale in Liechtenstein | giorni-festivi.eu. All data without guarantee! / Alle Angaben ohne Gewähr!
STATUS:CONFIRMED
END:VEVENT
BEGIN:VEVENT
UID:liechtenstein--2026-12@giorni-festivi.eu
DTSTAMP:20260815T000000
DTSTART;VALUE=DATE:20260815
SUMMARY:Staatsfeiertag 
DESCRIPTION:giorno festivo nazionale in Liechtenstein | giorni-festivi.eu. All data without guarantee! / Alle Angaben ohne Gewähr!
STATUS:CONFIRMED
END:VEVENT
BEGIN:VEVENT
UID:liechtenstein--2026-13@giorni-festivi.eu
DTSTAMP:20260908T000000
DTSTART;VALUE=DATE:20260908
SUMMARY:Mariä Geburt 
DESCRIPTION:giorno festivo nazionale in Liechtenstein | giorni-festivi.eu. All data without guarantee! / Alle Angaben ohne Gewähr!
STATUS:CONFIRMED
END:VEVENT
BEGIN:VEVENT
UID:liechtenstein--2026-14@giorni-festivi.eu
DTSTAMP:20261101T000000
DTSTART;VALUE=DATE:20261101
SUMMARY:Allerheiligen 
DESCRIPTION:giorno festivo nazionale in Liechtenstein | giorni-festivi.eu. All data without guarantee! / Alle Angaben ohne Gewähr!
STATUS:CONFIRMED
END:VEVENT
BEGIN:VEVENT
UID:liechtenstein--2026-15@giorni-festivi.eu
DTSTAMP:20261208T000000
DTSTART;VALUE=DATE:20261208
SUMMARY:Maria Empfängnis 
DESCRIPTION:giorno festivo nazionale in Liechtenstein | giorni-festivi.eu. All data without guarantee! / Alle Angaben ohne Gewähr!
STATUS:CONFIRMED
END:VEVENT
BEGIN:VEVENT
UID:liechtenstein--2026-16@giorni-festivi.eu
DTSTAMP:20261225T000000
DTSTART;VALUE=DATE:20261225
SUMMARY:Weihnachten 
DESCRIPTION:giorno festivo nazionale in Liechtenstein | giorni-festivi.eu. All data without guarantee! / Alle Angaben ohne Gewähr!
STATUS:CONFIRMED
END:VEVENT
BEGIN:VEVENT
UID:liechtenstein--2026-17@giorni-festivi.eu
DTSTAMP:20261226T000000
DTSTART;VALUE=DATE:20261226
SUMMARY:Stephanstag 
DESCRIPTION:giorno festivo nazionale in Liechtenstein | giorni-festivi.eu. All data without guarantee! / Alle Angaben ohne Gewähr!
STATUS:CONFIRMED
END:VEVENT
END:VCALENDAR